BEGIN:VCALENDAR
VERSION:2.0
PRODID:-//Electoral Justice Project - ECPv6.7.0//NONSGML v1.0//EN
CALSCALE:GREGORIAN
METHOD:PUBLISH
X-WR-CALNAME:Electoral Justice Project
X-ORIGINAL-URL:https://electoraljusticeproject.org
X-WR-CALDESC:Events for Electoral Justice Project
REFRESH-INTERVAL;VALUE=DURATION:PT1H
X-Robots-Tag:noindex
X-PUBLISHED-TTL:PT1H
BEGIN:VTIMEZONE
TZID:UTC
BEGIN:STANDARD
TZOFFSETFROM:+0000
TZOFFSETTO:+0000
TZNAME:UTC
DTSTART:20240101T000000
END:STANDARD
END:VTIMEZONE
BEGIN:VEVENT
DTSTART;TZID=UTC:20241115T080000
DTEND;TZID=UTC:20241115T170000
DTSTAMP:20260421T144853
CREATED:20241011T145810Z
LAST-MODIFIED:20241011T145810Z
UID:251814-1731657600-1731690000@electoraljusticeproject.org
SUMMARY:M4BL Scenario Planning
DESCRIPTION:
URL:https://electoraljusticeproject.org/event/m4bl-scenario-planning/
CATEGORIES:Virtual
END:VEVENT
BEGIN:VEVENT
DTSTART;TZID=UTC:20241107T183000
DTEND;TZID=UTC:20241107T203000
DTSTAMP:20260421T144853
CREATED:20241011T145901Z
LAST-MODIFIED:20241011T145901Z
UID:251816-1731004200-1731011400@electoraljusticeproject.org
SUMMARY:M4BL Post-Election Discussion
DESCRIPTION:
URL:https://electoraljusticeproject.org/event/m4bl-post-election-discussion/
CATEGORIES:Virtual
END:VEVENT
BEGIN:VEVENT
DTSTART;TZID=UTC:20241102T140000
DTEND;TZID=UTC:20241102T160000
DTSTAMP:20260421T144853
CREATED:20241010T153919Z
LAST-MODIFIED:20241010T153919Z
UID:251758-1730556000-1730563200@electoraljusticeproject.org
SUMMARY:Town Hall on Reimagining Public Safety and Voter Empowerment
DESCRIPTION:
URL:https://electoraljusticeproject.org/event/town-hall-on-reimagining-public-safety-and-voter-empowerment/
CATEGORIES:Pennslyvania
END:VEVENT
BEGIN:VEVENT
DTSTART;TZID=UTC:20241102T000000
DTEND;TZID=UTC:20241102T000000
DTSTAMP:20260421T144853
CREATED:20241010T153944Z
LAST-MODIFIED:20241010T153944Z
UID:251761-1730505600-1730505600@electoraljusticeproject.org
SUMMARY:San Pablo (Cop City) Synthesis & Book Gathering Day
DESCRIPTION:
URL:https://electoraljusticeproject.org/event/san-pablo-cop-city-synthesis-book-gathering-day/
CATEGORIES:California
END:VEVENT
BEGIN:VEVENT
DTSTART;TZID=UTC:20241101T000000
DTEND;TZID=UTC:20241101T000000
DTSTAMP:20260421T144853
CREATED:20241010T153944Z
LAST-MODIFIED:20241010T153944Z
UID:251760-1730419200-1730419200@electoraljusticeproject.org
SUMMARY:Richmond Family Reunion & Community Safety
DESCRIPTION:
URL:https://electoraljusticeproject.org/event/richmond-family-reunion-community-safety/
CATEGORIES:California
END:VEVENT
BEGIN:VEVENT
DTSTART;TZID=UTC:20241027T150000
DTEND;TZID=UTC:20241027T170000
DTSTAMP:20260421T144853
CREATED:20241010T153934Z
LAST-MODIFIED:20241010T153934Z
UID:251759-1730041200-1730048400@electoraljusticeproject.org
SUMMARY:Community Safety Townhall
DESCRIPTION:
URL:https://electoraljusticeproject.org/event/community-safety-townhall/
CATEGORIES:Mississippi
END:VEVENT
BEGIN:VEVENT
DTSTART;TZID=UTC:20241026T110000
DTEND;TZID=UTC:20241026T110000
DTSTAMP:20260421T144853
CREATED:20241010T153904Z
LAST-MODIFIED:20241010T153904Z
UID:251756-1729940400-1729940400@electoraljusticeproject.org
SUMMARY:The Church That Votes\, Public Safety Townhall
DESCRIPTION:
URL:https://electoraljusticeproject.org/event/the-church-that-votes-public-safety-townhall/
CATEGORIES:Missouri
END:VEVENT
BEGIN:VEVENT
DTSTART;TZID=UTC:20241026T100000
DTEND;TZID=UTC:20241026T160000
DTSTAMP:20260421T144853
CREATED:20241010T153905Z
LAST-MODIFIED:20241010T153905Z
UID:251757-1729936800-1729958400@electoraljusticeproject.org
SUMMARY:Take Black the Vote
DESCRIPTION:
URL:https://electoraljusticeproject.org/event/take-black-the-vote/
CATEGORIES:Ohio
END:VEVENT
BEGIN:VEVENT
DTSTART;TZID=UTC:20241023T200000
DTEND;TZID=UTC:20241023T200000
DTSTAMP:20260421T144853
CREATED:20241010T153849Z
LAST-MODIFIED:20241010T153849Z
UID:251755-1729713600-1729713600@electoraljusticeproject.org
SUMMARY:Reimagining Public SafetyTownhall Meeting
DESCRIPTION:
URL:https://electoraljusticeproject.org/event/reimagining-public-safetytownhall-meeting/
CATEGORIES:Illinois
END:VEVENT
BEGIN:VEVENT
DTSTART;TZID=UTC:20241020T110000
DTEND;TZID=UTC:20241020T110000
DTSTAMP:20260421T144853
CREATED:20241010T153849Z
LAST-MODIFIED:20241010T153849Z
UID:251754-1729422000-1729422000@electoraljusticeproject.org
SUMMARY:Gospel Brunch & Townhall
DESCRIPTION:
URL:https://electoraljusticeproject.org/event/gospel-brunch-townhall/
CATEGORIES:Missouri
END:VEVENT
BEGIN:VEVENT
DTSTART;TZID=UTC:20241017T183000
DTEND;TZID=UTC:20241017T203000
DTSTAMP:20260421T144853
CREATED:20241010T153848Z
LAST-MODIFIED:20241010T153848Z
UID:251753-1729189800-1729197000@electoraljusticeproject.org
SUMMARY:Community Safety Agenda Townhall
DESCRIPTION:
URL:https://electoraljusticeproject.org/event/community-safety-agenda-townhall/
CATEGORIES:Pennslyvania
END:VEVENT
END:VCALENDAR