BEGIN:VCALENDAR
VERSION:2.0
PRODID:-//Electoral Justice Project - ECPv6.7.0//NONSGML v1.0//EN
CALSCALE:GREGORIAN
METHOD:PUBLISH
X-ORIGINAL-URL:https://electoraljusticeproject.org
X-WR-CALDESC:Events for Electoral Justice Project
REFRESH-INTERVAL;VALUE=DURATION:PT1H
X-Robots-Tag:noindex
X-PUBLISHED-TTL:PT1H
BEGIN:VTIMEZONE
TZID:UTC
BEGIN:STANDARD
TZOFFSETFROM:+0000
TZOFFSETTO:+0000
TZNAME:UTC
DTSTART:20240101T000000
END:STANDARD
END:VTIMEZONE
BEGIN:VEVENT
DTSTART;TZID=UTC:20241102T140000
DTEND;TZID=UTC:20241102T160000
DTSTAMP:20260422T145918
CREATED:20241010T153919Z
LAST-MODIFIED:20241010T153919Z
UID:251758-1730556000-1730563200@electoraljusticeproject.org
SUMMARY:Town Hall on Reimagining Public Safety and Voter Empowerment
DESCRIPTION:
URL:https://electoraljusticeproject.org/event/town-hall-on-reimagining-public-safety-and-voter-empowerment/
CATEGORIES:Pennslyvania
END:VEVENT
BEGIN:VEVENT
DTSTART;TZID=UTC:20241017T183000
DTEND;TZID=UTC:20241017T203000
DTSTAMP:20260422T145918
CREATED:20241010T153848Z
LAST-MODIFIED:20241010T153848Z
UID:251753-1729189800-1729197000@electoraljusticeproject.org
SUMMARY:Community Safety Agenda Townhall
DESCRIPTION:
URL:https://electoraljusticeproject.org/event/community-safety-agenda-townhall/
CATEGORIES:Pennslyvania
END:VEVENT
END:VCALENDAR